BEGIN:VCALENDAR
VERSION:2.0
PRODID:-//Sheboygan Neighborhood Pride - ECPv6.15.20//NONSGML v1.0//EN
CALSCALE:GREGORIAN
METHOD:PUBLISH
X-ORIGINAL-URL:https://sheboyganneighborhoodpride.info
X-WR-CALDESC:Events for Sheboygan Neighborhood Pride
REFRESH-INTERVAL;VALUE=DURATION:PT1H
X-Robots-Tag:noindex
X-PUBLISHED-TTL:PT1H
BEGIN:VTIMEZONE
TZID:America/Chicago
BEGIN:DAYLIGHT
TZOFFSETFROM:-0600
TZOFFSETTO:-0500
TZNAME:CDT
DTSTART:20240310T080000
END:DAYLIGHT
BEGIN:STANDARD
TZOFFSETFROM:-0500
TZOFFSETTO:-0600
TZNAME:CST
DTSTART:20241103T070000
END:STANDARD
BEGIN:DAYLIGHT
TZOFFSETFROM:-0600
TZOFFSETTO:-0500
TZNAME:CDT
DTSTART:20250309T080000
END:DAYLIGHT
BEGIN:STANDARD
TZOFFSETFROM:-0500
TZOFFSETTO:-0600
TZNAME:CST
DTSTART:20251102T070000
END:STANDARD
BEGIN:DAYLIGHT
TZOFFSETFROM:-0600
TZOFFSETTO:-0500
TZNAME:CDT
DTSTART:20260308T080000
END:DAYLIGHT
BEGIN:STANDARD
TZOFFSETFROM:-0500
TZOFFSETTO:-0600
TZNAME:CST
DTSTART:20261101T070000
END:STANDARD
END:VTIMEZONE
BEGIN:VEVENT
DTSTART;TZID=America/Chicago:20250904T183000
DTEND;TZID=America/Chicago:20250904T193000
DTSTAMP:20260421T030918
CREATED:20250825T193858Z
LAST-MODIFIED:20250825T193858Z
UID:8468-1757010600-1757014200@sheboyganneighborhoodpride.info
SUMMARY:Memorial
DESCRIPTION:
URL:https://sheboyganneighborhoodpride.info/event/memorial-19/
LOCATION:Million Dreamz\, 415 Euclid Avenue\, Sheboygan\, WI\, 53083\, United States
ORGANIZER;CN="Jody Kraemer%2C President":MAILTO:memorialneighborhoodsheboygan@gmail.com
END:VEVENT
BEGIN:VEVENT
DTSTART;TZID=America/Chicago:20250908T183000
DTEND;TZID=America/Chicago:20250908T193000
DTSTAMP:20260421T030918
CREATED:20250815T142239Z
LAST-MODIFIED:20250815T142239Z
UID:8342-1757356200-1757359800@sheboyganneighborhoodpride.info
SUMMARY:Cleveland Park
DESCRIPTION:
URL:https://sheboyganneighborhoodpride.info/event/cleveland-park-23/
LOCATION:Cleveland Park\, Geele Ave & N 25th Street\, Sheboygan\, WI\, 53083\, United States
ORGANIZER;CN="Dustin Soerens%2C President":MAILTO:sheboygancp@gmail.com
END:VEVENT
BEGIN:VEVENT
DTSTART;TZID=America/Chicago:20250911T180000
DTEND;TZID=America/Chicago:20250911T190000
DTSTAMP:20260421T030918
CREATED:20250527T202432Z
LAST-MODIFIED:20250527T202432Z
UID:7145-1757613600-1757617200@sheboyganneighborhoodpride.info
SUMMARY:Erie Hill
DESCRIPTION:
URL:https://sheboyganneighborhoodpride.info/event/erie-hill-9/
LOCATION:Arise Church\, 1807 Erie Avenue\, Sheboygan\, WI\, 53081\, United States
ORGANIZER;CN="Penny Weber":MAILTO:plweber@charter.net
END:VEVENT
BEGIN:VEVENT
DTSTART;TZID=America/Chicago:20250916T183000
DTEND;TZID=America/Chicago:20250916T193000
DTSTAMP:20260421T030918
CREATED:20250904T173059Z
LAST-MODIFIED:20250904T173059Z
UID:8706-1758047400-1758051000@sheboyganneighborhoodpride.info
SUMMARY:Vollrath/North Point
DESCRIPTION:
URL:https://sheboyganneighborhoodpride.info/event/vollrath-north-point-20/
LOCATION:First Congregational Church\, 310 Bluff Avenue\, Sheboygan\, WI\, 53081\, United States
ORGANIZER;CN="Beth Counard%2C President":MAILTO:jcounard2@charter.net
END:VEVENT
BEGIN:VEVENT
DTSTART;TZID=America/Chicago:20250917T183000
DTEND;TZID=America/Chicago:20250917T193000
DTSTAMP:20260421T030918
CREATED:20250923T192919Z
LAST-MODIFIED:20250923T192919Z
UID:9014-1758133800-1758137400@sheboyganneighborhoodpride.info
SUMMARY:Indiana Corridor
DESCRIPTION:
URL:https://sheboyganneighborhoodpride.info/event/indiana-corridor-13/
LOCATION:Frankies Pub & Grill\, 2218 Indiana Avenue\, Sheboygan\, WI\, 53081\, United States
ORGANIZER;CN="Pete Sjollema%2C President":MAILTO:peteandshellysjollema@yahoo.com
END:VEVENT
BEGIN:VEVENT
DTSTART;TZID=America/Chicago:20250920T100000
DTEND;TZID=America/Chicago:20250920T233000
DTSTAMP:20260421T030918
CREATED:20250818T205935Z
LAST-MODIFIED:20250826T201147Z
UID:8416-1758362400-1758411000@sheboyganneighborhoodpride.info
SUMMARY:Ellis Neighborhood Historic Walk
DESCRIPTION:Ellis Neighborhood Historic Walk \nSaturday\, September 20\, 2025 from 10:00 am to 11:30am \nFree and open to the public \nMeet at Harbor Lights \nTravis Gross (former Sheboygan Museum Director) will lead the group
URL:https://sheboyganneighborhoodpride.info/event/ellis-neighborhood-historic-walk/
LOCATION:WI
END:VEVENT
BEGIN:VEVENT
DTSTART;TZID=America/Chicago:20250923T180000
DTEND;TZID=America/Chicago:20250923T190000
DTSTAMP:20260421T030918
CREATED:20250818T153346Z
LAST-MODIFIED:20250818T153346Z
UID:8367-1758650400-1758654000@sheboyganneighborhoodpride.info
SUMMARY:Farnsworth
DESCRIPTION:
URL:https://sheboyganneighborhoodpride.info/event/farnsworth-23/
LOCATION:Roosevelt Park\, 1103 Mead Ave\, Sheboygan\, WI\, 53081\, United States
ORGANIZER;CN="Mike Niay":MAILTO:mniay@yahoo.com
END:VEVENT
END:VCALENDAR