BEGIN:VCALENDAR
VERSION:2.0
PRODID:-//Sheboygan Neighborhood Pride - ECPv6.15.20//NONSGML v1.0//EN
CALSCALE:GREGORIAN
METHOD:PUBLISH
X-WR-CALNAME:Sheboygan Neighborhood Pride
X-ORIGINAL-URL:https://sheboyganneighborhoodpride.info
X-WR-CALDESC:Events for Sheboygan Neighborhood Pride
REFRESH-INTERVAL;VALUE=DURATION:PT1H
X-Robots-Tag:noindex
X-PUBLISHED-TTL:PT1H
BEGIN:VTIMEZONE
TZID:America/Chicago
BEGIN:DAYLIGHT
TZOFFSETFROM:-0600
TZOFFSETTO:-0500
TZNAME:CDT
DTSTART:20240310T080000
END:DAYLIGHT
BEGIN:STANDARD
TZOFFSETFROM:-0500
TZOFFSETTO:-0600
TZNAME:CST
DTSTART:20241103T070000
END:STANDARD
BEGIN:DAYLIGHT
TZOFFSETFROM:-0600
TZOFFSETTO:-0500
TZNAME:CDT
DTSTART:20250309T080000
END:DAYLIGHT
BEGIN:STANDARD
TZOFFSETFROM:-0500
TZOFFSETTO:-0600
TZNAME:CST
DTSTART:20251102T070000
END:STANDARD
BEGIN:DAYLIGHT
TZOFFSETFROM:-0600
TZOFFSETTO:-0500
TZNAME:CDT
DTSTART:20260308T080000
END:DAYLIGHT
BEGIN:STANDARD
TZOFFSETFROM:-0500
TZOFFSETTO:-0600
TZNAME:CST
DTSTART:20261101T070000
END:STANDARD
END:VTIMEZONE
BEGIN:VEVENT
DTSTART;TZID=America/Chicago:20250610T180000
DTEND;TZID=America/Chicago:20250610T190000
DTSTAMP:20260419T075831
CREATED:20250414T182220Z
LAST-MODIFIED:20250414T182220Z
UID:6458-1749578400-1749582000@sheboyganneighborhoodpride.info
SUMMARY:Ellis Historic
DESCRIPTION:
URL:https://sheboyganneighborhoodpride.info/event/ellis-historic-16/
LOCATION:Deland Home\, 1107 North 4 Street\, Sheboygan\, WI\, 53081\, United States
ORGANIZER;CN="Jon Dolson%2C President":MAILTO:mail@jondolson.com
END:VEVENT
BEGIN:VEVENT
DTSTART;TZID=America/Chicago:20250617T180000
DTEND;TZID=America/Chicago:20250617T190000
DTSTAMP:20260419T075832
CREATED:20250609T202249Z
LAST-MODIFIED:20250609T202249Z
UID:7404-1750183200-1750186800@sheboyganneighborhoodpride.info
SUMMARY:End Park
DESCRIPTION:
URL:https://sheboyganneighborhoodpride.info/event/end-park-27/
LOCATION:End Park shelter building\, 1200 block Bell Avenue\, WI\, 53081\, United States
END:VEVENT
BEGIN:VEVENT
DTSTART;TZID=America/Chicago:20250617T180000
DTEND;TZID=America/Chicago:20250617T190000
DTSTAMP:20260419T075832
CREATED:20250613T141107Z
LAST-MODIFIED:20250613T141107Z
UID:7538-1750183200-1750186800@sheboyganneighborhoodpride.info
SUMMARY:Historic Grant
DESCRIPTION:
URL:https://sheboyganneighborhoodpride.info/event/historic-grant-11/
LOCATION:3 Sheeps\, 1837 North Avenue\, Sheboygan\, WI\, 53081\, United States
ORGANIZER;CN="Mark Potyen%2C President":MAILTO:mlpotyen@netscape.net
END:VEVENT
BEGIN:VEVENT
DTSTART;TZID=America/Chicago:20250619T183000
DTEND;TZID=America/Chicago:20250619T193000
DTSTAMP:20260419T075832
CREATED:20250527T204338Z
LAST-MODIFIED:20250527T204338Z
UID:7157-1750357800-1750361400@sheboyganneighborhoodpride.info
SUMMARY:Vollrath/North Point
DESCRIPTION:
URL:https://sheboyganneighborhoodpride.info/event/vollrath-north-point-18/
LOCATION:First Congregational Church\, 310 Bluff Avenue\, Sheboygan\, WI\, 53081\, United States
ORGANIZER;CN="Beth Counard%2C President":MAILTO:jcounard2@charter.net
END:VEVENT
BEGIN:VEVENT
DTSTART;TZID=America/Chicago:20250626T180000
DTEND;TZID=America/Chicago:20250626T190000
DTSTAMP:20260419T075832
CREATED:20250422T165328Z
LAST-MODIFIED:20250422T165328Z
UID:6693-1750960800-1750964400@sheboyganneighborhoodpride.info
SUMMARY:Gateway
DESCRIPTION:
URL:https://sheboyganneighborhoodpride.info/event/gateway-19/
LOCATION:Little Red School House\, 1116 Huron Avenue\, Sheboygan\, WI\, 53081
ORGANIZER;CN="Keith Jacks":MAILTO:keithjacks@hotmail.com
END:VEVENT
END:VCALENDAR