BEGIN:VCALENDAR
VERSION:2.0
PRODID:-//Sheboygan Neighborhood Pride - ECPv6.15.20//NONSGML v1.0//EN
CALSCALE:GREGORIAN
METHOD:PUBLISH
X-WR-CALNAME:Sheboygan Neighborhood Pride
X-ORIGINAL-URL:https://sheboyganneighborhoodpride.info
X-WR-CALDESC:Events for Sheboygan Neighborhood Pride
REFRESH-INTERVAL;VALUE=DURATION:PT1H
X-Robots-Tag:noindex
X-PUBLISHED-TTL:PT1H
BEGIN:VTIMEZONE
TZID:America/Chicago
BEGIN:DAYLIGHT
TZOFFSETFROM:-0600
TZOFFSETTO:-0500
TZNAME:CDT
DTSTART:20230312T080000
END:DAYLIGHT
BEGIN:STANDARD
TZOFFSETFROM:-0500
TZOFFSETTO:-0600
TZNAME:CST
DTSTART:20231105T070000
END:STANDARD
BEGIN:DAYLIGHT
TZOFFSETFROM:-0600
TZOFFSETTO:-0500
TZNAME:CDT
DTSTART:20240310T080000
END:DAYLIGHT
BEGIN:STANDARD
TZOFFSETFROM:-0500
TZOFFSETTO:-0600
TZNAME:CST
DTSTART:20241103T070000
END:STANDARD
BEGIN:DAYLIGHT
TZOFFSETFROM:-0600
TZOFFSETTO:-0500
TZNAME:CDT
DTSTART:20250309T080000
END:DAYLIGHT
BEGIN:STANDARD
TZOFFSETFROM:-0500
TZOFFSETTO:-0600
TZNAME:CST
DTSTART:20251102T070000
END:STANDARD
END:VTIMEZONE
BEGIN:VEVENT
DTSTART;TZID=America/Chicago:20241104T180000
DTEND;TZID=America/Chicago:20241104T190000
DTSTAMP:20260420T084243
CREATED:20240811T233341Z
LAST-MODIFIED:20240811T233341Z
UID:5775-1730743200-1730746800@sheboyganneighborhoodpride.info
SUMMARY:Downtown
DESCRIPTION:
URL:https://sheboyganneighborhoodpride.info/event/downtown-3/
LOCATION:Encore Apartments\, 734 N 7 Street\, Sheboygan\, WI\, 53081\, United States
ORGANIZER;CN="Penny Weber":MAILTO:plweber@charter.net
END:VEVENT
BEGIN:VEVENT
DTSTART;TZID=America/Chicago:20241107T183000
DTEND;TZID=America/Chicago:20241107T193000
DTSTAMP:20260420T084243
CREATED:20240812T003004Z
LAST-MODIFIED:20240812T003004Z
UID:5817-1731004200-1731007800@sheboyganneighborhoodpride.info
SUMMARY:Memorial
DESCRIPTION:
URL:https://sheboyganneighborhoodpride.info/event/memorial-14/
LOCATION:Million Dreamz\, 415 Euclid Avenue\, Sheboygan\, WI\, 53083\, United States
ORGANIZER;CN="Jody Kraemer%2C President":MAILTO:memorialneighborhoodsheboygan@gmail.com
END:VEVENT
BEGIN:VEVENT
DTSTART;TZID=America/Chicago:20241119T180000
DTEND;TZID=America/Chicago:20241119T190000
DTSTAMP:20260420T084243
CREATED:20240508T011742Z
LAST-MODIFIED:20240508T011742Z
UID:5433-1732039200-1732042800@sheboyganneighborhoodpride.info
SUMMARY:Historic Grant
DESCRIPTION:
URL:https://sheboyganneighborhoodpride.info/event/historic-grant-9/
LOCATION:3 Sheeps\, 1837 North Avenue\, Sheboygan\, WI\, 53081\, United States
ORGANIZER;CN="Michael Close%2C President":MAILTO:close.michael.r@gmail.com
END:VEVENT
BEGIN:VEVENT
DTSTART;TZID=America/Chicago:20241119T180000
DTEND;TZID=America/Chicago:20241119T190000
DTSTAMP:20260420T084243
CREATED:20240812T002018Z
LAST-MODIFIED:20240812T002018Z
UID:5795-1732039200-1732042800@sheboyganneighborhoodpride.info
SUMMARY:End Park
DESCRIPTION:
URL:https://sheboyganneighborhoodpride.info/event/end-park-21/
LOCATION:St. John UCC\, 1248 Lincoln Ave.\, Sheboygan\, 53081\, United States
ORGANIZER;CN="Mary Dotz%2C President":MAILTO:mariemary29@gmail.com
END:VEVENT
BEGIN:VEVENT
DTSTART;TZID=America/Chicago:20241120T183000
DTEND;TZID=America/Chicago:20241120T193000
DTSTAMP:20260420T084243
CREATED:20240812T001632Z
LAST-MODIFIED:20240812T001632Z
UID:5787-1732127400-1732131000@sheboyganneighborhoodpride.info
SUMMARY:Cleveland Park
DESCRIPTION:
URL:https://sheboyganneighborhoodpride.info/event/cleveland-park-19/
LOCATION:Calvin Reformed\, 2313 Saemann Avenue\, Sheboygan\, WI\, 53081\, United States
ORGANIZER;CN="Dustin Soerens%2C President":MAILTO:sheboygancp@gmail.com
END:VEVENT
BEGIN:VEVENT
DTSTART;TZID=America/Chicago:20241121T183000
DTEND;TZID=America/Chicago:20241121T193000
DTSTAMP:20260420T084243
CREATED:20240812T003243Z
LAST-MODIFIED:20240812T003243Z
UID:5823-1732213800-1732217400@sheboyganneighborhoodpride.info
SUMMARY:Vollrath/North Point
DESCRIPTION:
URL:https://sheboyganneighborhoodpride.info/event/vollrath-north-point-15/
LOCATION:First Congregational Church\, 310 Bluff Avenue\, Sheboygan\, WI\, 53081\, United States
ORGANIZER;CN="Beth Counard%2C President":MAILTO:jcounard2@charter.net
END:VEVENT
BEGIN:VEVENT
DTSTART;TZID=America/Chicago:20241126T180000
DTEND;TZID=America/Chicago:20241126T190000
DTSTAMP:20260420T084243
CREATED:20240128T214108Z
LAST-MODIFIED:20240128T214108Z
UID:4879-1732644000-1732647600@sheboyganneighborhoodpride.info
SUMMARY:Farnsworth
DESCRIPTION:
URL:https://sheboyganneighborhoodpride.info/event/farnsworth-18/
LOCATION:Wesley Church\, 823 Union Avenue\, Sheboygan\, WI\, 53081\, United States
ORGANIZER;CN="Mike Niay":MAILTO:mniay@yahoo.com
END:VEVENT
END:VCALENDAR