BEGIN:VCALENDAR
VERSION:2.0
PRODID:-//Sheboygan Neighborhood Pride - ECPv6.15.20//NONSGML v1.0//EN
CALSCALE:GREGORIAN
METHOD:PUBLISH
X-WR-CALNAME:Sheboygan Neighborhood Pride
X-ORIGINAL-URL:https://sheboyganneighborhoodpride.info
X-WR-CALDESC:Events for Sheboygan Neighborhood Pride
REFRESH-INTERVAL;VALUE=DURATION:PT1H
X-Robots-Tag:noindex
X-PUBLISHED-TTL:PT1H
BEGIN:VTIMEZONE
TZID:America/Chicago
BEGIN:DAYLIGHT
TZOFFSETFROM:-0600
TZOFFSETTO:-0500
TZNAME:CDT
DTSTART:20230312T080000
END:DAYLIGHT
BEGIN:STANDARD
TZOFFSETFROM:-0500
TZOFFSETTO:-0600
TZNAME:CST
DTSTART:20231105T070000
END:STANDARD
BEGIN:DAYLIGHT
TZOFFSETFROM:-0600
TZOFFSETTO:-0500
TZNAME:CDT
DTSTART:20240310T080000
END:DAYLIGHT
BEGIN:STANDARD
TZOFFSETFROM:-0500
TZOFFSETTO:-0600
TZNAME:CST
DTSTART:20241103T070000
END:STANDARD
BEGIN:DAYLIGHT
TZOFFSETFROM:-0600
TZOFFSETTO:-0500
TZNAME:CDT
DTSTART:20250309T080000
END:DAYLIGHT
BEGIN:STANDARD
TZOFFSETFROM:-0500
TZOFFSETTO:-0600
TZNAME:CST
DTSTART:20251102T070000
END:STANDARD
END:VTIMEZONE
BEGIN:VEVENT
DTSTART;TZID=America/Chicago:20240701T180000
DTEND;TZID=America/Chicago:20240701T190000
DTSTAMP:20260423T193706
CREATED:20240616T224432Z
LAST-MODIFIED:20240616T224432Z
UID:5617-1719856800-1719860400@sheboyganneighborhoodpride.info
SUMMARY:Downtown
DESCRIPTION:
URL:https://sheboyganneighborhoodpride.info/event/downtown/
LOCATION:Encore Apartments\, 734 N 7 Street\, Sheboygan\, WI\, 53081\, United States
ORGANIZER;CN="Penny Weber":MAILTO:plweber@charter.net
END:VEVENT
BEGIN:VEVENT
DTSTART;TZID=America/Chicago:20240711T180000
DTEND;TZID=America/Chicago:20240711T190000
DTSTAMP:20260423T193706
CREATED:20240616T224331Z
LAST-MODIFIED:20240616T224331Z
UID:5615-1720720800-1720724400@sheboyganneighborhoodpride.info
SUMMARY:Memorial
DESCRIPTION:
URL:https://sheboyganneighborhoodpride.info/event/memorial-12/
LOCATION:Million Dreamz\, 415 Euclid Avenue\, Sheboygan\, WI\, 53083\, United States
ORGANIZER;CN="Jody Kraemer%2C President":MAILTO:memorialneighborhoodsheboygan@gmail.com
END:VEVENT
BEGIN:VEVENT
DTSTART;TZID=America/Chicago:20240716T180000
DTEND;TZID=America/Chicago:20240716T190000
DTSTAMP:20260423T193706
CREATED:20240710T201125Z
LAST-MODIFIED:20240710T201125Z
UID:5652-1721152800-1721156400@sheboyganneighborhoodpride.info
SUMMARY:End Park
DESCRIPTION:
URL:https://sheboyganneighborhoodpride.info/event/end-park-17/
LOCATION:End Park shelter building\, 1200 block Bell Avenue\, WI\, 53081\, United States
ORGANIZER;CN="Mary Dotz%2C President":MAILTO:mariemary29@gmail.com
END:VEVENT
BEGIN:VEVENT
DTSTART;TZID=America/Chicago:20240716T180000
DTEND;TZID=America/Chicago:20240716T190000
DTSTAMP:20260423T193706
CREATED:20240710T201410Z
LAST-MODIFIED:20240710T201410Z
UID:5657-1721152800-1721156400@sheboyganneighborhoodpride.info
SUMMARY:Gateway
DESCRIPTION:
URL:https://sheboyganneighborhoodpride.info/event/gateway-10/
LOCATION:Little Red School House\, 1116 Huron Avenue\, Sheboygan\, WI\, 53081
ORGANIZER;CN="Keith Jacks":MAILTO:keithjacks@hotmail.com
END:VEVENT
BEGIN:VEVENT
DTSTART;TZID=America/Chicago:20240716T180000
DTEND;TZID=America/Chicago:20240716T190000
DTSTAMP:20260423T193706
CREATED:20240812T002500Z
LAST-MODIFIED:20240812T002500Z
UID:5807-1721152800-1721156400@sheboyganneighborhoodpride.info
SUMMARY:Gateway
DESCRIPTION:
URL:https://sheboyganneighborhoodpride.info/event/gateway-14/
LOCATION:Little Red School House\, 1116 Huron Avenue\, Sheboygan\, WI\, 53081
ORGANIZER;CN="Keith Jacks":MAILTO:keithjacks@hotmail.com
END:VEVENT
BEGIN:VEVENT
DTSTART;TZID=America/Chicago:20240717T180000
DTEND;TZID=America/Chicago:20240717T190000
DTSTAMP:20260423T193706
CREATED:20240616T224942Z
LAST-MODIFIED:20240616T224942Z
UID:5629-1721239200-1721242800@sheboyganneighborhoodpride.info
SUMMARY:King Park
DESCRIPTION:
URL:https://sheboyganneighborhoodpride.info/event/king-park-11/
LOCATION:King Park Pavilion\, 1615 S. 7th Street\, Sheboygan\, WI\, 53081\, United States
ORGANIZER;CN="Rick Gorr%2C President":MAILTO:golfmasterrick@gmail.com
END:VEVENT
BEGIN:VEVENT
DTSTART;TZID=America/Chicago:20240717T183000
DTEND;TZID=America/Chicago:20240717T193000
DTSTAMP:20260423T193706
CREATED:20240710T201257Z
LAST-MODIFIED:20240710T201257Z
UID:5655-1721241000-1721244600@sheboyganneighborhoodpride.info
SUMMARY:Cleveland Park
DESCRIPTION:
URL:https://sheboyganneighborhoodpride.info/event/cleveland-park-17/
LOCATION:Calvin Reformed\, 2313 Saemann Avenue\, Sheboygan\, WI\, 53081\, United States
ORGANIZER;CN="Dustin Soerens%2C President":MAILTO:sheboygancp@gmail.com
END:VEVENT
BEGIN:VEVENT
DTSTART;TZID=America/Chicago:20240723T180000
DTEND;TZID=America/Chicago:20240723T190000
DTSTAMP:20260423T193706
CREATED:20240128T213918Z
LAST-MODIFIED:20240624T170202Z
UID:4875-1721757600-1721761200@sheboyganneighborhoodpride.info
SUMMARY:Farnsworth
DESCRIPTION:The Farnsworth Neighborhood meeting is at 6:00 pm on Tuesday\, July 23\, 2024 at Wesley Church (823 Union Avenue). All residents of the Farnsworth Neighborhood are invited to attend!\n►Enter through the alley doors at the back of the church.\n►The 2024 meetings will be in the odd-numbered months of JANUARY\, MARCH\, MAY\, JULY\, SEPTEMBER\, and NOVEMBER on the 4th Tuesday of the month.
URL:https://sheboyganneighborhoodpride.info/event/farnsworth-16/
LOCATION:Wesley Church\, 823 Union Avenue\, Sheboygan\, WI\, 53081\, United States
ORGANIZER;CN="Mike Niay":MAILTO:mniay@yahoo.com
END:VEVENT
END:VCALENDAR