BEGIN:VCALENDAR
VERSION:2.0
PRODID:-//Sheboygan Neighborhood Pride - ECPv6.15.20//NONSGML v1.0//EN
CALSCALE:GREGORIAN
METHOD:PUBLISH
X-WR-CALNAME:Sheboygan Neighborhood Pride
X-ORIGINAL-URL:https://sheboyganneighborhoodpride.info
X-WR-CALDESC:Events for Sheboygan Neighborhood Pride
REFRESH-INTERVAL;VALUE=DURATION:PT1H
X-Robots-Tag:noindex
X-PUBLISHED-TTL:PT1H
BEGIN:VTIMEZONE
TZID:America/Chicago
BEGIN:DAYLIGHT
TZOFFSETFROM:-0600
TZOFFSETTO:-0500
TZNAME:CDT
DTSTART:20220313T080000
END:DAYLIGHT
BEGIN:STANDARD
TZOFFSETFROM:-0500
TZOFFSETTO:-0600
TZNAME:CST
DTSTART:20221106T070000
END:STANDARD
BEGIN:DAYLIGHT
TZOFFSETFROM:-0600
TZOFFSETTO:-0500
TZNAME:CDT
DTSTART:20230312T080000
END:DAYLIGHT
BEGIN:STANDARD
TZOFFSETFROM:-0500
TZOFFSETTO:-0600
TZNAME:CST
DTSTART:20231105T070000
END:STANDARD
BEGIN:DAYLIGHT
TZOFFSETFROM:-0600
TZOFFSETTO:-0500
TZNAME:CDT
DTSTART:20240310T080000
END:DAYLIGHT
BEGIN:STANDARD
TZOFFSETFROM:-0500
TZOFFSETTO:-0600
TZNAME:CST
DTSTART:20241103T070000
END:STANDARD
END:VTIMEZONE
BEGIN:VEVENT
DTSTART;TZID=America/Chicago:20230706T183000
DTEND;TZID=America/Chicago:20230706T193000
DTSTAMP:20260422T134643
CREATED:20230628T193822Z
LAST-MODIFIED:20230628T193822Z
UID:3835-1688668200-1688671800@sheboyganneighborhoodpride.info
SUMMARY:Memorial
DESCRIPTION:
URL:https://sheboyganneighborhoodpride.info/event/memorial-8/
LOCATION:Humane Society\, 3209 N 21 St\, Sheboygan\, WI\, 53081\, United States
ORGANIZER;CN="Jody Kraemer%2C President":MAILTO:memorialneighborhoodsheboygan@gmail.com
END:VEVENT
BEGIN:VEVENT
DTSTART;TZID=America/Chicago:20230718T180000
DTEND;TZID=America/Chicago:20230718T190000
DTSTAMP:20260422T134643
CREATED:20230628T191152Z
LAST-MODIFIED:20230628T191153Z
UID:3828-1689703200-1689706800@sheboyganneighborhoodpride.info
SUMMARY:End Park
DESCRIPTION:
URL:https://sheboyganneighborhoodpride.info/event/end-park-5/
LOCATION:End Park shelter building\, 1200 block Bell Avenue\, WI\, 53081\, United States
ORGANIZER;CN="Mary Dotz%2C President":MAILTO:mariemary29@gmail.com
END:VEVENT
BEGIN:VEVENT
DTSTART;TZID=America/Chicago:20230719T180000
DTEND;TZID=America/Chicago:20230719T190000
DTSTAMP:20260422T134643
CREATED:20230418T002308Z
LAST-MODIFIED:20230418T002308Z
UID:3650-1689789600-1689793200@sheboyganneighborhoodpride.info
SUMMARY:King Park
DESCRIPTION:
URL:https://sheboyganneighborhoodpride.info/event/king-park-4/
LOCATION:King Park Pavilion\, 1615 S. 7th Street\, Sheboygan\, WI\, 53081\, United States
ORGANIZER;CN="Rick Gorr%2C President":MAILTO:golfmasterrick@gmail.com
END:VEVENT
BEGIN:VEVENT
DTSTART;TZID=America/Chicago:20230719T183000
DTEND;TZID=America/Chicago:20230719T193000
DTSTAMP:20260422T134643
CREATED:20230628T191253Z
LAST-MODIFIED:20230628T191253Z
UID:3830-1689791400-1689795000@sheboyganneighborhoodpride.info
SUMMARY:Cleveland Park
DESCRIPTION:
URL:https://sheboyganneighborhoodpride.info/event/cleveland-park-7/
LOCATION:Calvin Reformed\, 2313 Saemann Avenue\, Sheboygan\, WI\, 53081\, United States
ORGANIZER;CN="Ric Olson":MAILTO:ricolson2008@gmail.com
END:VEVENT
BEGIN:VEVENT
DTSTART;TZID=America/Chicago:20230720T180000
DTEND;TZID=America/Chicago:20230720T190000
DTSTAMP:20260422T134643
CREATED:20230719T031251Z
LAST-MODIFIED:20230719T031251Z
UID:3845-1689876000-1689879600@sheboyganneighborhoodpride.info
SUMMARY:James Madison - Veterans Park
DESCRIPTION:
URL:https://sheboyganneighborhoodpride.info/event/james-madison-veterans-park/
LOCATION:Veterans Park shelter building\, 2300 block Union Avenue\, Sheboygan\, WI\, 53081\, United States
ORGANIZER;CN="Hannah Matheny%2C President":MAILTO:hmatheny2015@gmail.com
END:VEVENT
BEGIN:VEVENT
DTSTART;TZID=America/Chicago:20230720T183000
DTEND;TZID=America/Chicago:20230720T193000
DTSTAMP:20260422T134643
CREATED:20230719T031454Z
LAST-MODIFIED:20230719T031454Z
UID:3849-1689877800-1689881400@sheboyganneighborhoodpride.info
SUMMARY:Vollrath / North Point
DESCRIPTION:
URL:https://sheboyganneighborhoodpride.info/event/vollrath-north-point-5/
LOCATION:Vollrath Park shelter building\, Park Avenue\,\, Sheboygan\, WI\, 53081\, United States
ORGANIZER;CN="Beth Counard%2C President":MAILTO:jcounard2@charter.net
END:VEVENT
BEGIN:VEVENT
DTSTART;TZID=America/Chicago:20230725T180000
DTEND;TZID=America/Chicago:20230725T190000
DTSTAMP:20260422T134643
CREATED:20230628T190957Z
LAST-MODIFIED:20230628T190957Z
UID:3824-1690308000-1690311600@sheboyganneighborhoodpride.info
SUMMARY:Historic Grant
DESCRIPTION:
URL:https://sheboyganneighborhoodpride.info/event/historic-grant-3/
LOCATION:Grant School – N 5th St benches\, 1500 block N 5th St\, Sheboygan\, Wisconsin\, 53081
ORGANIZER;CN="Michael Close%2C President":MAILTO:close.michael.r@gmail.com
END:VEVENT
BEGIN:VEVENT
DTSTART;TZID=America/Chicago:20230725T180000
DTEND;TZID=America/Chicago:20230725T190000
DTSTAMP:20260422T134643
CREATED:20230628T191354Z
LAST-MODIFIED:20230628T194207Z
UID:3832-1690308000-1690311600@sheboyganneighborhoodpride.info
SUMMARY:Farnsworth
DESCRIPTION:
URL:https://sheboyganneighborhoodpride.info/event/farnsworth-8/
LOCATION:Wesley Church\, 823 Union Avenue\, Sheboygan\, WI\, 53081\, United States
ORGANIZER;CN="Ric Olson":MAILTO:ricolson2008@gmail.com
END:VEVENT
BEGIN:VEVENT
DTSTART;TZID=America/Chicago:20230727T170000
DTEND;TZID=America/Chicago:20230727T180000
DTSTAMP:20260422T134643
CREATED:20230211T224208Z
LAST-MODIFIED:20230211T224208Z
UID:3383-1690477200-1690480800@sheboyganneighborhoodpride.info
SUMMARY:Franklin Park
DESCRIPTION:
URL:https://sheboyganneighborhoodpride.info/event/franklin-park-3/
LOCATION:Al & Al’s\, 1502 South 12 Street\, Sheboygan\, 53081\, United States
ORGANIZER;CN="Rochelle Ross%2C President":MAILTO:rochelleross1955@gmail.com
END:VEVENT
END:VCALENDAR