BEGIN:VCALENDAR
VERSION:2.0
PRODID:-//Sheboygan Neighborhood Pride - ECPv6.15.20//NONSGML v1.0//EN
CALSCALE:GREGORIAN
METHOD:PUBLISH
X-ORIGINAL-URL:https://sheboyganneighborhoodpride.info
X-WR-CALDESC:Events for Sheboygan Neighborhood Pride
REFRESH-INTERVAL;VALUE=DURATION:PT1H
X-Robots-Tag:noindex
X-PUBLISHED-TTL:PT1H
BEGIN:VTIMEZONE
TZID:America/Chicago
BEGIN:DAYLIGHT
TZOFFSETFROM:-0600
TZOFFSETTO:-0500
TZNAME:CDT
DTSTART:20220313T080000
END:DAYLIGHT
BEGIN:STANDARD
TZOFFSETFROM:-0500
TZOFFSETTO:-0600
TZNAME:CST
DTSTART:20221106T070000
END:STANDARD
BEGIN:DAYLIGHT
TZOFFSETFROM:-0600
TZOFFSETTO:-0500
TZNAME:CDT
DTSTART:20230312T080000
END:DAYLIGHT
BEGIN:STANDARD
TZOFFSETFROM:-0500
TZOFFSETTO:-0600
TZNAME:CST
DTSTART:20231105T070000
END:STANDARD
BEGIN:DAYLIGHT
TZOFFSETFROM:-0600
TZOFFSETTO:-0500
TZNAME:CDT
DTSTART:20240310T080000
END:DAYLIGHT
BEGIN:STANDARD
TZOFFSETFROM:-0500
TZOFFSETTO:-0600
TZNAME:CST
DTSTART:20241103T070000
END:STANDARD
END:VTIMEZONE
BEGIN:VEVENT
DTSTART;TZID=America/Chicago:20230614T180000
DTEND;TZID=America/Chicago:20230614T190000
DTSTAMP:20260422T122319
CREATED:20230416T210609Z
LAST-MODIFIED:20230416T210753Z
UID:3605-1686765600-1686769200@sheboyganneighborhoodpride.info
SUMMARY:Gateway
DESCRIPTION:
URL:https://sheboyganneighborhoodpride.info/event/gateway/
LOCATION:Little Red School House\, 1116 Huron Avenue\, Sheboygan\, WI\, 53081
ORGANIZER;CN="Keith Jacks":MAILTO:keithjacks@hotmail.com
END:VEVENT
BEGIN:VEVENT
DTSTART;TZID=America/Chicago:20230614T180000
DTEND;TZID=America/Chicago:20230614T190000
DTSTAMP:20260422T122319
CREATED:20230416T212520Z
LAST-MODIFIED:20230416T212520Z
UID:3628-1686765600-1686769200@sheboyganneighborhoodpride.info
SUMMARY:Ellis Historic
DESCRIPTION:
URL:https://sheboyganneighborhoodpride.info/event/ellis-historic-4/
LOCATION:Deland Home\, 1107 North 4 Street\, Sheboygan\, WI\, 53081\, United States
ORGANIZER;CN="Jon Dolson%2C President":MAILTO:mail@jondolson.com
END:VEVENT
BEGIN:VEVENT
DTSTART;TZID=America/Chicago:20230615T181500
DTEND;TZID=America/Chicago:20230615T193000
DTSTAMP:20260422T122319
CREATED:20230610T004217Z
LAST-MODIFIED:20230610T004217Z
UID:3814-1686852900-1686857400@sheboyganneighborhoodpride.info
SUMMARY:Vollrath/North Point
DESCRIPTION:
URL:https://sheboyganneighborhoodpride.info/event/vollrath-north-point-4/
LOCATION:Vollrath Park shelter building\, Park Avenue\,\, Sheboygan\, WI\, 53081\, United States
ORGANIZER;CN="Beth Counard%2C President":MAILTO:jcounard2@charter.net
END:VEVENT
BEGIN:VEVENT
DTSTART;TZID=America/Chicago:20230620T180000
DTEND;TZID=America/Chicago:20230620T190000
DTSTAMP:20260422T122319
CREATED:20230521T013335Z
LAST-MODIFIED:20230521T013335Z
UID:3801-1687284000-1687287600@sheboyganneighborhoodpride.info
SUMMARY:End Park
DESCRIPTION:
URL:https://sheboyganneighborhoodpride.info/event/end-park-4/
LOCATION:End Park shelter building\, 1200 block Bell Avenue\, WI\, 53081\, United States
ORGANIZER;CN="Mary Dotz%2C President":MAILTO:mariemary29@gmail.com
END:VEVENT
BEGIN:VEVENT
DTSTART;TZID=America/Chicago:20230621T180000
DTEND;TZID=America/Chicago:20230621T190000
DTSTAMP:20260422T122319
CREATED:20230418T002212Z
LAST-MODIFIED:20230418T002212Z
UID:3648-1687370400-1687374000@sheboyganneighborhoodpride.info
SUMMARY:King Park
DESCRIPTION:
URL:https://sheboyganneighborhoodpride.info/event/king-park-3/
LOCATION:King Park Pavilion\, 1615 S. 7th Street\, Sheboygan\, WI\, 53081\, United States
ORGANIZER;CN="Rick Gorr%2C President":MAILTO:golfmasterrick@gmail.com
END:VEVENT
BEGIN:VEVENT
DTSTART;TZID=America/Chicago:20230621T183000
DTEND;TZID=America/Chicago:20230621T193000
DTSTAMP:20260422T122319
CREATED:20230521T013502Z
LAST-MODIFIED:20230521T013502Z
UID:3803-1687372200-1687375800@sheboyganneighborhoodpride.info
SUMMARY:Cleveland Park
DESCRIPTION:
URL:https://sheboyganneighborhoodpride.info/event/cleveland-park-6/
LOCATION:Calvin Reformed\, 2313 Saemann Avenue\, Sheboygan\, WI\, 53081\, United States
ORGANIZER;CN="Ric Olson":MAILTO:ricolson2008@gmail.com
END:VEVENT
BEGIN:VEVENT
DTSTART;TZID=America/Chicago:20230627T180000
DTEND;TZID=America/Chicago:20230627T190000
DTSTAMP:20260422T122319
CREATED:20230521T013556Z
LAST-MODIFIED:20230521T013556Z
UID:3805-1687888800-1687892400@sheboyganneighborhoodpride.info
SUMMARY:Farnsworth
DESCRIPTION:
URL:https://sheboyganneighborhoodpride.info/event/farnsworth-7/
LOCATION:Wesley Church\, 823 Union Avenue\, Sheboygan\, WI\, 53081\, United States
ORGANIZER;CN="Ric Olson":MAILTO:ricolson2008@gmail.com
END:VEVENT
BEGIN:VEVENT
DTSTART;TZID=America/Chicago:20230627T180000
DTEND;TZID=America/Chicago:20230627T190000
DTSTAMP:20260422T122319
CREATED:20230628T190714Z
LAST-MODIFIED:20230628T190714Z
UID:3817-1687888800-1687892400@sheboyganneighborhoodpride.info
SUMMARY:Historic Grant - Cancelled
DESCRIPTION:
URL:https://sheboyganneighborhoodpride.info/event/historic-grant-cancelled/
LOCATION:Grant School – N 5th St benches\, 1500 block N 5th St\, Sheboygan\, Wisconsin\, 53081
ORGANIZER;CN="Michael Close%2C President":MAILTO:close.michael.r@gmail.com
END:VEVENT
END:VCALENDAR