BEGIN:VCALENDAR
VERSION:2.0
PRODID:-//Sheboygan Neighborhood Pride - ECPv6.15.20//NONSGML v1.0//EN
CALSCALE:GREGORIAN
METHOD:PUBLISH
X-WR-CALNAME:Sheboygan Neighborhood Pride
X-ORIGINAL-URL:https://sheboyganneighborhoodpride.info
X-WR-CALDESC:Events for Sheboygan Neighborhood Pride
REFRESH-INTERVAL;VALUE=DURATION:PT1H
X-Robots-Tag:noindex
X-PUBLISHED-TTL:PT1H
BEGIN:VTIMEZONE
TZID:America/Chicago
BEGIN:DAYLIGHT
TZOFFSETFROM:-0600
TZOFFSETTO:-0500
TZNAME:CDT
DTSTART:20230312T080000
END:DAYLIGHT
BEGIN:STANDARD
TZOFFSETFROM:-0500
TZOFFSETTO:-0600
TZNAME:CST
DTSTART:20231105T070000
END:STANDARD
BEGIN:DAYLIGHT
TZOFFSETFROM:-0600
TZOFFSETTO:-0500
TZNAME:CDT
DTSTART:20240310T080000
END:DAYLIGHT
BEGIN:STANDARD
TZOFFSETFROM:-0500
TZOFFSETTO:-0600
TZNAME:CST
DTSTART:20241103T070000
END:STANDARD
BEGIN:DAYLIGHT
TZOFFSETFROM:-0600
TZOFFSETTO:-0500
TZNAME:CDT
DTSTART:20250309T080000
END:DAYLIGHT
BEGIN:STANDARD
TZOFFSETFROM:-0500
TZOFFSETTO:-0600
TZNAME:CST
DTSTART:20251102T070000
END:STANDARD
END:VTIMEZONE
BEGIN:VEVENT
DTSTART;TZID=America/Chicago:20241015T180000
DTEND;TZID=America/Chicago:20241015T190000
DTSTAMP:20260420T092540
CREATED:20240508T012047Z
LAST-MODIFIED:20240508T012047Z
UID:5437-1729015200-1729018800@sheboyganneighborhoodpride.info
SUMMARY:Historic Grant
DESCRIPTION:
URL:https://sheboyganneighborhoodpride.info/event/historic-grant-10/
LOCATION:3 Sheeps\, 1837 North Avenue\, Sheboygan\, WI\, 53081\, United States
ORGANIZER;CN="Michael Close%2C President":MAILTO:close.michael.r@gmail.com
END:VEVENT
BEGIN:VEVENT
DTSTART;TZID=America/Chicago:20241015T180000
DTEND;TZID=America/Chicago:20241015T190000
DTSTAMP:20260420T092540
CREATED:20240812T001931Z
LAST-MODIFIED:20240812T001931Z
UID:5793-1729015200-1729018800@sheboyganneighborhoodpride.info
SUMMARY:End Park
DESCRIPTION:
URL:https://sheboyganneighborhoodpride.info/event/end-park-20/
LOCATION:St. John UCC\, 1248 Lincoln Ave.\, Sheboygan\, 53081\, United States
ORGANIZER;CN="Mary Dotz%2C President":MAILTO:mariemary29@gmail.com
END:VEVENT
END:VCALENDAR