BEGIN:VCALENDAR
VERSION:2.0
PRODID:-//Sheboygan Neighborhood Pride - ECPv6.15.20//NONSGML v1.0//EN
CALSCALE:GREGORIAN
METHOD:PUBLISH
X-WR-CALNAME:Sheboygan Neighborhood Pride
X-ORIGINAL-URL:https://sheboyganneighborhoodpride.info
X-WR-CALDESC:Events for Sheboygan Neighborhood Pride
REFRESH-INTERVAL;VALUE=DURATION:PT1H
X-Robots-Tag:noindex
X-PUBLISHED-TTL:PT1H
BEGIN:VTIMEZONE
TZID:America/Chicago
BEGIN:DAYLIGHT
TZOFFSETFROM:-0600
TZOFFSETTO:-0500
TZNAME:CDT
DTSTART:20230312T080000
END:DAYLIGHT
BEGIN:STANDARD
TZOFFSETFROM:-0500
TZOFFSETTO:-0600
TZNAME:CST
DTSTART:20231105T070000
END:STANDARD
BEGIN:DAYLIGHT
TZOFFSETFROM:-0600
TZOFFSETTO:-0500
TZNAME:CDT
DTSTART:20240310T080000
END:DAYLIGHT
BEGIN:STANDARD
TZOFFSETFROM:-0500
TZOFFSETTO:-0600
TZNAME:CST
DTSTART:20241103T070000
END:STANDARD
BEGIN:DAYLIGHT
TZOFFSETFROM:-0600
TZOFFSETTO:-0500
TZNAME:CDT
DTSTART:20250309T080000
END:DAYLIGHT
BEGIN:STANDARD
TZOFFSETFROM:-0500
TZOFFSETTO:-0600
TZNAME:CST
DTSTART:20251102T070000
END:STANDARD
END:VTIMEZONE
BEGIN:VEVENT
DTSTART;TZID=America/Chicago:20240924T180000
DTEND;TZID=America/Chicago:20240924T190000
DTSTAMP:20260420T080744
CREATED:20240128T214012Z
LAST-MODIFIED:20240923T142056Z
UID:4877-1727200800-1727204400@sheboyganneighborhoodpride.info
SUMMARY:Farnsworth
DESCRIPTION:The Farnsworth Neighborhood meeting is at 6:00 pm on Tuesday\, September 24\, 2024 at Wesley Church (823 Union Avenue). All residents of the Farnsworth Neighborhood are invited to attend! \n►We will have former mayor Mike Vandersteen as a guest speaker. He will share his thoughts and experiences on working with neighborhood associations and their importance to our Sheboygan community. \n►Other speakers will be Jim Renzelmann (SASD Coordinator) and Todd DeBruin (Principal of Farnsworth Middle School) who will present info on the Farnsworth Referendum. \n►Representatives from Habitat For Humanity will also be speaking at this meeting regarding their “Rock The Block” program that took place September 19-21 within the Farnsworth Neighborhood. \n►Enter through the alley doors at the back of the church.\n►The 2024 meetings will be in the odd-numbered months of JANUARY\, MARCH\, MAY\, JULY\, SEPTEMBER\, and NOVEMBER on the 4th Tuesday of the month.
URL:https://sheboyganneighborhoodpride.info/event/farnsworth-17/
LOCATION:Wesley Church\, 823 Union Avenue\, Sheboygan\, WI\, 53081\, United States
ORGANIZER;CN="Mike Niay":MAILTO:mniay@yahoo.com
END:VEVENT
END:VCALENDAR