BEGIN:VCALENDAR
VERSION:2.0
PRODID:-//Sheboygan Neighborhood Pride - ECPv6.15.20//NONSGML v1.0//EN
CALSCALE:GREGORIAN
METHOD:PUBLISH
X-WR-CALNAME:Sheboygan Neighborhood Pride
X-ORIGINAL-URL:https://sheboyganneighborhoodpride.info
X-WR-CALDESC:Events for Sheboygan Neighborhood Pride
REFRESH-INTERVAL;VALUE=DURATION:PT1H
X-Robots-Tag:noindex
X-PUBLISHED-TTL:PT1H
BEGIN:VTIMEZONE
TZID:America/Chicago
BEGIN:DAYLIGHT
TZOFFSETFROM:-0600
TZOFFSETTO:-0500
TZNAME:CDT
DTSTART:20230312T080000
END:DAYLIGHT
BEGIN:STANDARD
TZOFFSETFROM:-0500
TZOFFSETTO:-0600
TZNAME:CST
DTSTART:20231105T070000
END:STANDARD
BEGIN:DAYLIGHT
TZOFFSETFROM:-0600
TZOFFSETTO:-0500
TZNAME:CDT
DTSTART:20240310T080000
END:DAYLIGHT
BEGIN:STANDARD
TZOFFSETFROM:-0500
TZOFFSETTO:-0600
TZNAME:CST
DTSTART:20241103T070000
END:STANDARD
BEGIN:DAYLIGHT
TZOFFSETFROM:-0600
TZOFFSETTO:-0500
TZNAME:CDT
DTSTART:20250309T080000
END:DAYLIGHT
BEGIN:STANDARD
TZOFFSETFROM:-0500
TZOFFSETTO:-0600
TZNAME:CST
DTSTART:20251102T070000
END:STANDARD
END:VTIMEZONE
BEGIN:VEVENT
DTSTART;TZID=America/Chicago:20240918T180000
DTEND;TZID=America/Chicago:20240918T190000
DTSTAMP:20260420T080752
CREATED:20240812T002709Z
LAST-MODIFIED:20240812T002709Z
UID:5811-1726682400-1726686000@sheboyganneighborhoodpride.info
SUMMARY:King Park
DESCRIPTION:
URL:https://sheboyganneighborhoodpride.info/event/king-park-13/
LOCATION:King Park Pavilion\, 1615 S. 7th Street\, Sheboygan\, WI\, 53081\, United States
ORGANIZER;CN="Rick Gorr%2C President":MAILTO:golfmasterrick@gmail.com
END:VEVENT
BEGIN:VEVENT
DTSTART;TZID=America/Chicago:20240918T183000
DTEND;TZID=America/Chicago:20240918T193000
DTSTAMP:20260420T080752
CREATED:20240812T001542Z
LAST-MODIFIED:20240812T001542Z
UID:5784-1726684200-1726687800@sheboyganneighborhoodpride.info
SUMMARY:Cleveland Park
DESCRIPTION:
URL:https://sheboyganneighborhoodpride.info/event/cleveland-park-18/
LOCATION:Calvin Reformed\, 2313 Saemann Avenue\, Sheboygan\, WI\, 53081\, United States
ORGANIZER;CN="Dustin Soerens%2C President":MAILTO:sheboygancp@gmail.com
END:VEVENT
BEGIN:VEVENT
DTSTART;TZID=America/Chicago:20240918T183000
DTEND;TZID=America/Chicago:20240918T193000
DTSTAMP:20260420T080752
CREATED:20240902T002822Z
LAST-MODIFIED:20240902T002822Z
UID:5873-1726684200-1726687800@sheboyganneighborhoodpride.info
SUMMARY:Indiana Corridor
DESCRIPTION:
URL:https://sheboyganneighborhoodpride.info/event/indiana-corridor-11/
LOCATION:Frankies Pub & Grill\, 2218 Indiana Avenue\, Sheboygan\, WI\, 53081\, United States
ORGANIZER;CN="Pete Sjollema%2C President":MAILTO:peteandshellysjollema@yahoo.com
END:VEVENT
END:VCALENDAR