BEGIN:VCALENDAR
VERSION:2.0
PRODID:-//Sheboygan Neighborhood Pride - ECPv6.15.20//NONSGML v1.0//EN
CALSCALE:GREGORIAN
METHOD:PUBLISH
X-ORIGINAL-URL:https://sheboyganneighborhoodpride.info
X-WR-CALDESC:Events for Sheboygan Neighborhood Pride
REFRESH-INTERVAL;VALUE=DURATION:PT1H
X-Robots-Tag:noindex
X-PUBLISHED-TTL:PT1H
BEGIN:VTIMEZONE
TZID:America/Chicago
BEGIN:DAYLIGHT
TZOFFSETFROM:-0600
TZOFFSETTO:-0500
TZNAME:CDT
DTSTART:20230312T080000
END:DAYLIGHT
BEGIN:STANDARD
TZOFFSETFROM:-0500
TZOFFSETTO:-0600
TZNAME:CST
DTSTART:20231105T070000
END:STANDARD
BEGIN:DAYLIGHT
TZOFFSETFROM:-0600
TZOFFSETTO:-0500
TZNAME:CDT
DTSTART:20240310T080000
END:DAYLIGHT
BEGIN:STANDARD
TZOFFSETFROM:-0500
TZOFFSETTO:-0600
TZNAME:CST
DTSTART:20241103T070000
END:STANDARD
BEGIN:DAYLIGHT
TZOFFSETFROM:-0600
TZOFFSETTO:-0500
TZNAME:CDT
DTSTART:20250309T080000
END:DAYLIGHT
BEGIN:STANDARD
TZOFFSETFROM:-0500
TZOFFSETTO:-0600
TZNAME:CST
DTSTART:20251102T070000
END:STANDARD
END:VTIMEZONE
BEGIN:VEVENT
DTSTART;TZID=America/Chicago:20240813T180000
DTEND;TZID=America/Chicago:20240813T190000
DTSTAMP:20260420T051624
CREATED:20240315T180457Z
LAST-MODIFIED:20240315T180457Z
UID:5124-1723572000-1723575600@sheboyganneighborhoodpride.info
SUMMARY:Ellis Historic
DESCRIPTION:
URL:https://sheboyganneighborhoodpride.info/event/ellis-historic-11/
LOCATION:Deland Home\, 1107 North 4 Street\, Sheboygan\, WI\, 53081\, United States
ORGANIZER;CN="Jon Dolson%2C President":MAILTO:mail@jondolson.com
END:VEVENT
BEGIN:VEVENT
DTSTART;TZID=America/Chicago:20240813T180000
DTEND;TZID=America/Chicago:20240813T190000
DTSTAMP:20260420T051624
CREATED:20240616T224147Z
LAST-MODIFIED:20240616T224147Z
UID:5611-1723572000-1723575600@sheboyganneighborhoodpride.info
SUMMARY:Maple Heights
DESCRIPTION:
URL:https://sheboyganneighborhoodpride.info/event/maple-heights-3/
LOCATION:Mead Public Library\, 710 N 8th St\, Sheboygan\, WI\, 53081\, United States
ORGANIZER;CN="Brenda Goddard":MAILTO:bjgoddard59@gmail.com
END:VEVENT
END:VCALENDAR