BEGIN:VCALENDAR
VERSION:2.0
PRODID:-//Sheboygan Neighborhood Pride - ECPv6.15.20//NONSGML v1.0//EN
CALSCALE:GREGORIAN
METHOD:PUBLISH
X-ORIGINAL-URL:https://sheboyganneighborhoodpride.info
X-WR-CALDESC:Events for Sheboygan Neighborhood Pride
REFRESH-INTERVAL;VALUE=DURATION:PT1H
X-Robots-Tag:noindex
X-PUBLISHED-TTL:PT1H
BEGIN:VTIMEZONE
TZID:America/Chicago
BEGIN:DAYLIGHT
TZOFFSETFROM:-0600
TZOFFSETTO:-0500
TZNAME:CDT
DTSTART:20220313T080000
END:DAYLIGHT
BEGIN:STANDARD
TZOFFSETFROM:-0500
TZOFFSETTO:-0600
TZNAME:CST
DTSTART:20221106T070000
END:STANDARD
BEGIN:DAYLIGHT
TZOFFSETFROM:-0600
TZOFFSETTO:-0500
TZNAME:CDT
DTSTART:20230312T080000
END:DAYLIGHT
BEGIN:STANDARD
TZOFFSETFROM:-0500
TZOFFSETTO:-0600
TZNAME:CST
DTSTART:20231105T070000
END:STANDARD
BEGIN:DAYLIGHT
TZOFFSETFROM:-0600
TZOFFSETTO:-0500
TZNAME:CDT
DTSTART:20240310T080000
END:DAYLIGHT
BEGIN:STANDARD
TZOFFSETFROM:-0500
TZOFFSETTO:-0600
TZNAME:CST
DTSTART:20241103T070000
END:STANDARD
END:VTIMEZONE
BEGIN:VEVENT
DTSTART;TZID=America/Chicago:20231019T180000
DTEND;TZID=America/Chicago:20231019T190000
DTSTAMP:20260422T122321
CREATED:20231007T201212Z
LAST-MODIFIED:20231007T201212Z
UID:4204-1697738400-1697742000@sheboyganneighborhoodpride.info
SUMMARY:Gateway
DESCRIPTION:
URL:https://sheboyganneighborhoodpride.info/event/gateway-2/
LOCATION:Little Red School House\, 1116 Huron Avenue\, Sheboygan\, WI\, 53081
ORGANIZER;CN="Keith Jacks":MAILTO:keithjacks@hotmail.com
END:VEVENT
BEGIN:VEVENT
DTSTART;TZID=America/Chicago:20231019T183000
DTEND;TZID=America/Chicago:20231019T193000
DTSTAMP:20260422T122321
CREATED:20231007T201419Z
LAST-MODIFIED:20231007T201419Z
UID:4209-1697740200-1697743800@sheboyganneighborhoodpride.info
SUMMARY:Vollrath/North Point
DESCRIPTION:
URL:https://sheboyganneighborhoodpride.info/event/vollrath-north-point-7/
LOCATION:City Hall\, 828 Center Ave\, Sheboygan\, WI\, 53081\, United States
ORGANIZER;CN="Beth Counard%2C President":MAILTO:jcounard2@charter.net
END:VEVENT
END:VCALENDAR