BEGIN:VCALENDAR
VERSION:2.0
PRODID:-//Sheboygan Neighborhood Pride - ECPv6.15.20//NONSGML v1.0//EN
CALSCALE:GREGORIAN
METHOD:PUBLISH
X-WR-CALNAME:Sheboygan Neighborhood Pride
X-ORIGINAL-URL:https://sheboyganneighborhoodpride.info
X-WR-CALDESC:Events for Sheboygan Neighborhood Pride
REFRESH-INTERVAL;VALUE=DURATION:PT1H
X-Robots-Tag:noindex
X-PUBLISHED-TTL:PT1H
BEGIN:VTIMEZONE
TZID:America/Chicago
BEGIN:DAYLIGHT
TZOFFSETFROM:-0600
TZOFFSETTO:-0500
TZNAME:CDT
DTSTART:20220313T080000
END:DAYLIGHT
BEGIN:STANDARD
TZOFFSETFROM:-0500
TZOFFSETTO:-0600
TZNAME:CST
DTSTART:20221106T070000
END:STANDARD
BEGIN:DAYLIGHT
TZOFFSETFROM:-0600
TZOFFSETTO:-0500
TZNAME:CDT
DTSTART:20230312T080000
END:DAYLIGHT
BEGIN:STANDARD
TZOFFSETFROM:-0500
TZOFFSETTO:-0600
TZNAME:CST
DTSTART:20231105T070000
END:STANDARD
BEGIN:DAYLIGHT
TZOFFSETFROM:-0600
TZOFFSETTO:-0500
TZNAME:CDT
DTSTART:20240310T080000
END:DAYLIGHT
BEGIN:STANDARD
TZOFFSETFROM:-0500
TZOFFSETTO:-0600
TZNAME:CST
DTSTART:20241103T070000
END:STANDARD
END:VTIMEZONE
BEGIN:VEVENT
DTSTART;TZID=America/Chicago:20230523T180000
DTEND;TZID=America/Chicago:20230523T190000
DTSTAMP:20260422T122223
CREATED:20230416T212708Z
LAST-MODIFIED:20230416T212708Z
UID:3632-1684864800-1684868400@sheboyganneighborhoodpride.info
SUMMARY:Farnsworth
DESCRIPTION:
URL:https://sheboyganneighborhoodpride.info/event/farnsworth-6/
LOCATION:Wesley Church\, 823 Union Avenue\, Sheboygan\, WI\, 53081\, United States
ORGANIZER;CN="Ric Olson":MAILTO:ricolson2008@gmail.com
END:VEVENT
BEGIN:VEVENT
DTSTART;TZID=America/Chicago:20230523T180000
DTEND;TZID=America/Chicago:20230523T190000
DTSTAMP:20260422T122223
CREATED:20230510T201243Z
LAST-MODIFIED:20230510T201243Z
UID:3760-1684864800-1684868400@sheboyganneighborhoodpride.info
SUMMARY:Historic Grant
DESCRIPTION:
URL:https://sheboyganneighborhoodpride.info/event/historic-grant-2/
LOCATION:Grant School Library\, North 5th Street entrance\, Sheboygan\, WI\, 53081\, United States
ORGANIZER;CN="Michael Close%2C President":MAILTO:close.michael.r@gmail.com
END:VEVENT
END:VCALENDAR